BEGIN:VCALENDAR
PRODID:-//kirchenweb.ch gmbh//veranstaltungsausgabe v2.0//DE
VERSION:2.0
METHOD:PUBLISH
BEGIN:VEVENT
DTSTART:20260420T180000Z
DTEND:20260420T200000Z
LOCATION:Kirchgemeindehaus\, Toggenburgerstrasse 50\, 9500 Wil
TRANSP:OPAQUE
SEQUENCE:0
UID:69804-veranstaltung@ref-wil.ch
DTSTAMP:20260420T054221Z
DESCRIPTION:Kontakt: Björn Herrmann\n\nWeitere Infos:
  https://www.ref-wil.ch/veranstaltung/69804
SUMMARY:Männerkleingruppe
PRIORITY:5
X-MICROSOFT-CDO-IMPORTANCE:1
CLASS:PUBLIC
END:VEVENT
END:VCALENDAR
