BEGIN:VCALENDAR
PRODID:-//kirchenweb.ch gmbh//veranstaltungsausgabe v2.0//DE
VERSION:2.0
METHOD:PUBLISH
BEGIN:VEVENT
DTSTART:20260526T063000Z
DTEND:20260526T093000Z
LOCATION:Kirchgemeindehaus Wil\, \,
TRANSP:OPAQUE
SEQUENCE:0
UID:69800-veranstaltung@ref-wil.ch
DTSTAMP:20260417T141947Z
DESCRIPTION:Kontakt: christian.waelchli@ref-wil.ch\n\nWeitere Infos:
  https://www.ref-wil.ch/veranstaltung/69800
SUMMARY:Weiterbildung Kirchenweb
PRIORITY:5
X-MICROSOFT-CDO-IMPORTANCE:1
CLASS:PUBLIC
END:VEVENT
END:VCALENDAR
