BEGIN:VCALENDAR
PRODID:-//kirchenweb.ch gmbh//veranstaltungsausgabe v2.0//DE
VERSION:2.0
METHOD:PUBLISH
BEGIN:VEVENT
DTSTART:20270319T170000Z
DTEND:20270319T200000Z
LOCATION:Stadt Wil - Treffpunkt: Kreuzkirche\, Toggenburgerstrasse 50\,
  9500 Wil
TRANSP:OPAQUE
SEQUENCE:0
UID:69746-veranstaltung@ref-wil.ch
DTSTAMP:20260406T143516Z
DESCRIPTION:Freitag\, 19. März 2027  um 18 Uhr Beginn in der Kreuzkirche
  und Abschluss im katholischen Pfarreizentrum um 20 Uhr\, anschliessend
  Suppe für alle.\n\nBeim Passionsweg ziehen wir gemeinsam durch die Stadt
  und halten an sechs Stationen inne.\nDas ist eine ökumenische
  Zusammenarbeit der katholischen KirchgemeindeWil\, der FEG\, Lifechurch
  und der reformierten Kirchgemeinde Wil.\n\nAm Freitag\, 19. März 2027
 \nBeginn: 18:00 Uhr\, https://maps.app.goo.gl/nQQ8NZ3FrrSoQraz7\nSchluss:
  20:00 Uhr\, https://maps.app.goo.gl/qF3zumfLbaiu2kbm9\nVerantwortlich:
  Sabine Kutsch (kathwil)\, Christian Enderli (FEG)\, Dominik Lutzeyer
  (Lifechurch) und Thierry Thurnheer (refwil)\n\n\nKontakt: Thierry
  Thurnheer\n\nWeitere Infos: https://www.ref-wil.ch/veranstaltung/69746
SUMMARY:ökumenischer Passionsweg
PRIORITY:5
X-MICROSOFT-CDO-IMPORTANCE:1
CLASS:PUBLIC
END:VEVENT
END:VCALENDAR
