BEGIN:VCALENDAR
PRODID:-//kirchenweb.ch gmbh//veranstaltungsausgabe v2.0//DE
VERSION:2.0
METHOD:PUBLISH
BEGIN:VEVENT
DTSTART:20250227T103000Z
DTEND:20250227T120000Z
LOCATION:Kirchgemeindehaus Wil\, \,
TRANSP:OPAQUE
SEQUENCE:0
UID:69301-veranstaltung@ref-wil.ch
DTSTAMP:20260220T171221Z
DESCRIPTION:Einmal im Monat gibt es ein Mittagessen für alle Generationen
  von 11.30 - 13.00 Uhr. Sie können günstig für Fr. 10.- ein feines
  Mittagessen (inkl. Dessert und Getränk) in Gemeinschaft geniessen.
  Kinder bezahlen einen angepassten Preis. \nFür Kinder von 4-8 Jahren
  findet ab 13.30 Uhr ein Kinderprogramm statt.\n\nKontakt: Bernd
  Rosenthaler\, Diakon\n\nWeitere Infos:
  https://www.ref-wil.ch/veranstaltung/69301
SUMMARY:Mittwoch Zmittag
PRIORITY:5
X-MICROSOFT-CDO-IMPORTANCE:1
CLASS:PUBLIC
END:VEVENT
END:VCALENDAR
