BEGIN:VCALENDAR
PRODID:-//kirchenweb.ch gmbh//veranstaltungsausgabe v2.0//DE
VERSION:2.0
METHOD:PUBLISH
BEGIN:VEVENT
DTSTART;VALUE=DATE:20261011
DTEND;VALUE=DATE:20261012
LOCATION:Taizé\, Frankreich\, \,
TRANSP:OPAQUE
SEQUENCE:0
UID:69270-veranstaltung@ref-wil.ch
DTSTAMP:20260406T150425Z
DESCRIPTION:Wir reisen gemeinsam für eine Woche nach Taizé - Sonntag\,
  11. bis Sonntag\, 18. Oktober 2026.\n
 \nhttps://www.ref-wil.ch/bericht/2808\n\n\n\n\nKontakt: Thierry Thurnheer
 \n\nWeitere Infos: https://www.ref-wil.ch/veranstaltung/69270
SUMMARY:Reise nach Taizé
PRIORITY:5
X-MICROSOFT-CDO-IMPORTANCE:1
CLASS:PUBLIC
END:VEVENT
END:VCALENDAR
