BEGIN:VCALENDAR
PRODID:-//kirchenweb.ch gmbh//veranstaltungsausgabe v2.0//DE
VERSION:2.0
METHOD:PUBLISH
BEGIN:VEVENT
DTSTART:20260801T083000Z
DTEND:20260801T093000Z
LOCATION:Katholische Kirche Zuzwil\, \,
TRANSP:OPAQUE
SEQUENCE:0
UID:68836-veranstaltung@ref-wil.ch
DTSTAMP:20260216T131355Z
DESCRIPTION:Kontakt: Marcel Wildi\, Pfarrer\n\nWeitere Infos:
  https://www.ref-wil.ch/veranstaltung/68836
SUMMARY:Ökum. Gottesdienst Zuzwil
PRIORITY:5
X-MICROSOFT-CDO-IMPORTANCE:1
CLASS:PUBLIC
END:VEVENT
END:VCALENDAR
