BEGIN:VCALENDAR
PRODID:-//kirchenweb.ch gmbh//veranstaltungsausgabe v2.0//DE
VERSION:2.0
METHOD:PUBLISH
BEGIN:VEVENT
DTSTART:20260804T073000Z
DTEND:20260804T083000Z
LOCATION:Wohn- und Pflegeheim Lindenbaum Züberwangen\, \,
TRANSP:OPAQUE
SEQUENCE:0
UID:68824-veranstaltung@ref-wil.ch
DTSTAMP:20260216T125829Z
DESCRIPTION:Adresse: Weieren 52\, 9523 Züberwangen \n\nKontakt: Markus
  Lohner\, Pfarrer\n\nWeitere Infos:
  https://www.ref-wil.ch/veranstaltung/68824
SUMMARY:Gottesdienst Lindenbaum Züberwangen Zuzwil
PRIORITY:5
X-MICROSOFT-CDO-IMPORTANCE:1
CLASS:PUBLIC
END:VEVENT
END:VCALENDAR
