BEGIN:VCALENDAR
PRODID:-//kirchenweb.ch gmbh//veranstaltungsausgabe v2.0//DE
VERSION:2.0
METHOD:PUBLISH
BEGIN:VEVENT
DTSTART:20261209T083000Z
DTEND:20261209T093000Z
LOCATION:Alterszentrum Sonnenhof\, Haldenstrasse 18\, 9500 wil
TRANSP:OPAQUE
SEQUENCE:0
UID:68745-veranstaltung@ref-wil.ch
DTSTAMP:20260216T105145Z
DESCRIPTION:Kontakt: Christoph Casty\, Pfarrer\n\nWeitere Infos:
  https://www.ref-wil.ch/veranstaltung/68745
SUMMARY:Gottesdienst mit Abendmahl Alterszentrum Sonnenhof
PRIORITY:5
X-MICROSOFT-CDO-IMPORTANCE:1
CLASS:PUBLIC
END:VEVENT
END:VCALENDAR
