BEGIN:VCALENDAR
PRODID:-//kirchenweb.ch gmbh//veranstaltungsausgabe v2.0//DE
VERSION:2.0
METHOD:PUBLISH
BEGIN:VEVENT
DTSTART:20260918T081500Z
DTEND:20260918T091500Z
LOCATION:Pflegezentrum Fürstenau\, Fürstenlandstrasse 50\, 9500 Wil
TRANSP:OPAQUE
SEQUENCE:0
UID:68737-veranstaltung@ref-wil.ch
DTSTAMP:20260216T104116Z
DESCRIPTION:Kontakt: Max Schoch\, Diakon\n\nWeitere Infos:
  https://www.ref-wil.ch/veranstaltung/68737
SUMMARY:Gottesdienst mit Abendmahl Pflegezentrum Fürstenau
PRIORITY:5
X-MICROSOFT-CDO-IMPORTANCE:1
CLASS:PUBLIC
END:VEVENT
END:VCALENDAR
