BEGIN:VCALENDAR
PRODID:-//kirchenweb.ch gmbh//veranstaltungsausgabe v2.0//DE
VERSION:2.0
METHOD:PUBLISH
BEGIN:VEVENT
DTSTART:20261109T080000Z
DTEND:20261109T090000Z
LOCATION:Alterssiedlung Bergholz\, Bergholzstrasse 16a\, 9500 Wil
TRANSP:OPAQUE
SEQUENCE:0
UID:68727-veranstaltung@ref-wil.ch
DTSTAMP:20260216T103045Z
DESCRIPTION:Kontakt: Christoph Casty\, Pfarrer\n\nWeitere Infos:
  https://www.ref-wil.ch/veranstaltung/68727
SUMMARY:Gottesdienst Bergholz
PRIORITY:5
X-MICROSOFT-CDO-IMPORTANCE:1
CLASS:PUBLIC
END:VEVENT
END:VCALENDAR
