BEGIN:VCALENDAR
PRODID:-//kirchenweb.ch gmbh//veranstaltungsausgabe v2.0//DE
VERSION:2.0
METHOD:PUBLISH
BEGIN:VEVENT
DTSTART:20260621T080100Z
DTEND:20260621T091500Z
LOCATION:Kreiselhuus Wil\, Toggenburgertrasse 56\, 9500 Wil
TRANSP:OPAQUE
SEQUENCE:0
UID:68573-veranstaltung@ref-wil.ch
DTSTAMP:20260202T194235Z
DESCRIPTION:Kontakt: Marcel Urban\, Diakon\n\n\nWeitere Infos:
  https://www.ref-wil.ch/veranstaltung/68573
SUMMARY:Chat Point - Jugendtreff
PRIORITY:5
X-MICROSOFT-CDO-IMPORTANCE:1
CLASS:PUBLIC
END:VEVENT
END:VCALENDAR
