BEGIN:VCALENDAR
PRODID:-//kirchenweb.ch gmbh//veranstaltungsausgabe v2.0//DE
VERSION:2.0
METHOD:PUBLISH
BEGIN:VEVENT
DTSTART;VALUE=DATE:20260707
DTEND;VALUE=DATE:20260708
LOCATION:Ort nach Gruppenprogramm\, \, 9500 Wil
TRANSP:OPAQUE
SEQUENCE:0
UID:68183-veranstaltung@ref-wil.ch
DTSTAMP:20260113T161014Z
DESCRIPTION:\n\nKontakt: Marcel Urban\, Diakon\n\nWeitere Infos:
  https://www.ref-wil.ch/veranstaltung/68183
SUMMARY:Cevi SoLa
PRIORITY:5
X-MICROSOFT-CDO-IMPORTANCE:1
CLASS:PUBLIC
END:VEVENT
END:VCALENDAR
