BEGIN:VCALENDAR
PRODID:-//kirchenweb.ch gmbh//veranstaltungsausgabe v2.0//DE
VERSION:2.0
METHOD:PUBLISH
BEGIN:VEVENT
DTSTART:20260624T080000Z
DTEND:20260624T090000Z
LOCATION:Triangel Zuzwil\, Unterdorfstrasse 7\, 9524 Zuzwil
TRANSP:OPAQUE
SEQUENCE:0
UID:68025-veranstaltung@ref-wil.ch
DTSTAMP:20251229T140715Z
DESCRIPTION:Kontakt: Marcel Wildi\, Pfarrer\n\nWeitere Infos:
  https://www.ref-wil.ch/veranstaltung/68025
SUMMARY:Ökum. Gottesdienst Frauengemeinschaft Zuzwil
PRIORITY:5
X-MICROSOFT-CDO-IMPORTANCE:1
CLASS:PUBLIC
END:VEVENT
END:VCALENDAR
