BEGIN:VCALENDAR
PRODID:-//kirchenweb.ch gmbh//veranstaltungsausgabe v2.0//DE
VERSION:2.0
METHOD:PUBLISH
BEGIN:VEVENT
DTSTART;VALUE=DATE:20261031
DTEND;VALUE=DATE:20261101
LOCATION:Kreiselhuus Wil\, Toggenburgertrasse 56\, 9500 Wil
TRANSP:OPAQUE
SEQUENCE:0
UID:67923-veranstaltung@ref-wil.ch
DTSTAMP:20251204T102134Z
DESCRIPTION:Kontakt: Marcel Urban\, Diakon\n\nWeitere Infos:
  https://www.ref-wil.ch/veranstaltung/67923
SUMMARY:WiKiKi  - Zeit noch offen
PRIORITY:5
X-MICROSOFT-CDO-IMPORTANCE:1
CLASS:PUBLIC
END:VEVENT
END:VCALENDAR
