BEGIN:VCALENDAR
PRODID:-//kirchenweb.ch gmbh//veranstaltungsausgabe v2.0//DE
VERSION:2.0
METHOD:PUBLISH
BEGIN:VEVENT
DTSTART:20260828T170000Z
DTEND:20260828T183000Z
LOCATION:Kreiselhuus Wil\, Toggenburgertrasse 56\, 9500 Wil
TRANSP:OPAQUE
SEQUENCE:0
UID:67875-veranstaltung@ref-wil.ch
DTSTAMP:20251127T131007Z
DESCRIPTION:Kontakt: Marcel Urban\, Diakon\n\nWeitere Infos:
  https://www.ref-wil.ch/veranstaltung/67875
SUMMARY:Happy Hour
PRIORITY:5
X-MICROSOFT-CDO-IMPORTANCE:1
CLASS:PUBLIC
END:VEVENT
END:VCALENDAR
