BEGIN:VCALENDAR
PRODID:-//kirchenweb.ch gmbh//veranstaltungsausgabe v2.0//DE
VERSION:2.0
METHOD:PUBLISH
BEGIN:VEVENT
DTSTART:20260307T083000Z
DTEND:20260307T093000Z
LOCATION:kath. Pfarreiheim Zuzwil\, Unterdorfstrasse 7\, 9524 Zuzwil
TRANSP:OPAQUE
SEQUENCE:0
UID:67379-veranstaltung@ref-wil.ch
DTSTAMP:20251110T144521Z
DESCRIPTION:Kontakt: Marcel Wildi\, Pfarrer\n\nWeitere Infos:
  https://www.ref-wil.ch/veranstaltung/67379
SUMMARY:Ökum. Chlichinderfiir Zuzwil
PRIORITY:5
X-MICROSOFT-CDO-IMPORTANCE:1
CLASS:PUBLIC
END:VEVENT
END:VCALENDAR
