BEGIN:VCALENDAR
PRODID:-//kirchenweb.ch gmbh//veranstaltungsausgabe v2.0//DE
VERSION:2.0
METHOD:PUBLISH
BEGIN:VEVENT
DTSTART:20260303T083000Z
DTEND:20260303T093000Z
LOCATION:Wohn- und Pflegeheim Lindenbaum Züberwangen\, \,
TRANSP:OPAQUE
SEQUENCE:0
UID:67355-veranstaltung@ref-wil.ch
DTSTAMP:20251110T135445Z
DESCRIPTION:Adresse: Weieren 52\, 9523 Züberwangen \n\nKontakt: Marcel
  Wildi\, Pfarrer\n\nWeitere Infos:
  https://www.ref-wil.ch/veranstaltung/67355
SUMMARY:Gottesdienst Lindenbaum Züberwangen Zuzwil
PRIORITY:5
X-MICROSOFT-CDO-IMPORTANCE:1
CLASS:PUBLIC
END:VEVENT
END:VCALENDAR
