BEGIN:VCALENDAR
PRODID:-//kirchenweb.ch gmbh//veranstaltungsausgabe v2.0//DE
VERSION:2.0
METHOD:PUBLISH
BEGIN:VEVENT
DTSTART:20260515T081500Z
DTEND:20260515T091500Z
LOCATION:Pflegezentrum Fürstenau\, Fürstenlandstrasse 50\, 9500 Wil
TRANSP:OPAQUE
SEQUENCE:0
UID:67326-veranstaltung@ref-wil.ch
DTSTAMP:20251110T134821Z
DESCRIPTION:Kontakt: Christoph Casty\, Pfarrer\n\nWeitere Infos:
  https://www.ref-wil.ch/veranstaltung/67326
SUMMARY:Gottesdienst Pflegezentrum Fürstenau
PRIORITY:5
X-MICROSOFT-CDO-IMPORTANCE:1
CLASS:PUBLIC
END:VEVENT
END:VCALENDAR
