BEGIN:VCALENDAR
PRODID:-//kirchenweb.ch gmbh//veranstaltungsausgabe v2.0//DE
VERSION:2.0
METHOD:PUBLISH
BEGIN:VEVENT
DTSTART:20261127T183000Z
DTEND:20261127T193000Z
LOCATION:Kirchenzentrum Wilen\, Freudenbergstrasse 9\, 9535 Wilen
TRANSP:OPAQUE
SEQUENCE:0
UID:67299-veranstaltung@ref-wil.ch
DTSTAMP:20251107T131613Z
DESCRIPTION:Kontakt: Markus Lohner\, Pfarrer\n\nWeitere Infos:
  https://www.ref-wil.ch/veranstaltung/67299
SUMMARY:Evang. Abendgottesdienst Wilen
PRIORITY:5
X-MICROSOFT-CDO-IMPORTANCE:1
CLASS:PUBLIC
END:VEVENT
END:VCALENDAR
