BEGIN:VCALENDAR
PRODID:-//kirchenweb.ch gmbh//veranstaltungsausgabe v2.0//DE
VERSION:2.0
METHOD:PUBLISH
BEGIN:VEVENT
DTSTART:20260607T080000Z
DTEND:20260607T090000Z
LOCATION:Kreuzkirche Wil\, Toggenburgerstrasse 50\, 9500 Wil
TRANSP:OPAQUE
SEQUENCE:0
UID:67228-veranstaltung@ref-wil.ch
DTSTAMP:20260413T082601Z
DESCRIPTION:Kontakt: Markus Lohner\, Pfarrer\n\nWeitere Infos:
  https://www.ref-wil.ch/veranstaltung/67228
SUMMARY:Gottesdienst mit der Brass Band Wilen
PRIORITY:5
X-MICROSOFT-CDO-IMPORTANCE:1
CLASS:PUBLIC
END:VEVENT
END:VCALENDAR
