BEGIN:VCALENDAR
PRODID:-//kirchenweb.ch gmbh//veranstaltungsausgabe v2.0//DE
VERSION:2.0
METHOD:PUBLISH
BEGIN:VEVENT
DTSTART:20260514T080000Z
DTEND:20260514T091500Z
LOCATION:Kreuzkirche Wil\, Toggenburgerstrasse 50\, 9500 Wil
TRANSP:OPAQUE
SEQUENCE:0
UID:67224-veranstaltung@ref-wil.ch
DTSTAMP:20251219T121312Z
DESCRIPTION:\n\nKontakt: Walter Hürzeler\n\nWeitere Infos:
  https://www.ref-wil.ch/veranstaltung/67224
SUMMARY:Auffahrtsgottesdienst mit Band
PRIORITY:5
X-MICROSOFT-CDO-IMPORTANCE:1
CLASS:PUBLIC
END:VEVENT
END:VCALENDAR
