BEGIN:VCALENDAR
PRODID:-//kirchenweb.ch gmbh//veranstaltungsausgabe v2.0//DE
VERSION:2.0
METHOD:PUBLISH
BEGIN:VEVENT
DTSTART:20261120T180000Z
DTEND:20261120T193000Z
LOCATION:Kreiselhuus Wil\, Toggenburgertrasse 56\, 9500 Wil
TRANSP:OPAQUE
SEQUENCE:0
UID:66978-veranstaltung@ref-wil.ch
DTSTAMP:20250919T112943Z
DESCRIPTION:Kontakt: Marcel Urban\, Diakon\n\nWeitere Infos:
  https://www.ref-wil.ch/veranstaltung/66978
SUMMARY:Happy Hour
PRIORITY:5
X-MICROSOFT-CDO-IMPORTANCE:1
CLASS:PUBLIC
END:VEVENT
END:VCALENDAR
