BEGIN:VCALENDAR
PRODID:-//kirchenweb.ch gmbh//veranstaltungsausgabe v2.0//DE
VERSION:2.0
METHOD:PUBLISH
BEGIN:VEVENT
DTSTART:20261205T183000Z
DTEND:20261205T203000Z
LOCATION:Kirchgemeindehaus Wil\, Toggenburgerstrasse 50\, 9500 Wil
TRANSP:OPAQUE
SEQUENCE:0
UID:66944-veranstaltung@ref-wil.ch
DTSTAMP:20251203T125426Z
DESCRIPTION:An diesem Abende kann jede Frau\, jeder Mann teilnehmen. Die
  Tanzschritte sind einfach und schnell gelernt. Es werden Kreistänze aus
  aller Welt getanzt. Der Eintritt ist frei.\n\nKontakt:
  bernd.rosenthaler@ref-wil.ch\n\nWeitere Infos:
  https://www.ref-wil.ch/veranstaltung/66944
SUMMARY:Kreistänze
PRIORITY:5
X-MICROSOFT-CDO-IMPORTANCE:1
CLASS:PUBLIC
END:VEVENT
END:VCALENDAR
