BEGIN:VCALENDAR
PRODID:-//kirchenweb.ch gmbh//veranstaltungsausgabe v2.0//DE
VERSION:2.0
METHOD:PUBLISH
BEGIN:VEVENT
DTSTART:20260617T070000Z
DTEND:20260617T090000Z
LOCATION:Kirchgemeindehaus Wil\, Toggenburgerstrasse 50\, 9500 Wil
TRANSP:OPAQUE
SEQUENCE:0
UID:66678-veranstaltung@ref-wil.ch
DTSTAMP:20250730T093636Z
DESCRIPTION:Gruppe 1: 9.00 - 9.45\nGruppe 2: 10.15 - 11.00\nWir singen
  Kinderlieder\, bewegen uns zu Kinderversen und hören eine Geschichte.
 \nAnschliessend ist beim Znüni Zeit zum Gespräch und Spielen. Dauer ca
  45 Min.\nFür Eltern/Grosseltern mit ihren 0-4 jährigen Kindern.
  Anti-Rutsch-Socken oder Finken mit bringen.\n\n\nKontakt: Jeanette
  Pfister\, diakonische Mitarbeiterin\n\nWeitere Infos:
  https://www.ref-wil.ch/veranstaltung/66678
SUMMARY:Singen mit Kindern
PRIORITY:5
X-MICROSOFT-CDO-IMPORTANCE:1
CLASS:PUBLIC
END:VEVENT
END:VCALENDAR
