BEGIN:VCALENDAR
PRODID:-//kirchenweb.ch gmbh//veranstaltungsausgabe v2.0//DE
VERSION:2.0
METHOD:PUBLISH
BEGIN:VEVENT
DTSTART:20260510T100000Z
DTEND:20260510T140000Z
LOCATION:Kirchgemeindehaus Wil\, Toggenburgerstrasse 50\, 9500 Wil
TRANSP:OPAQUE
SEQUENCE:0
UID:66635-veranstaltung@ref-wil.ch
DTSTAMP:20250730T090721Z
DESCRIPTION:Kontakt: jeanette.pfister@ref-wil.ch\n\nWeitere Infos:
  https://www.ref-wil.ch/veranstaltung/66635
SUMMARY:Zeit zum Verweilen
PRIORITY:5
X-MICROSOFT-CDO-IMPORTANCE:1
CLASS:PUBLIC
END:VEVENT
END:VCALENDAR
