BEGIN:VCALENDAR
PRODID:-//kirchenweb.ch gmbh//veranstaltungsausgabe v2.0//DE
VERSION:2.0
METHOD:PUBLISH
BEGIN:VEVENT
DTSTART:20260514T080100Z
DTEND:20260514T090100Z
LOCATION:Mesmerhuus Wil\, Toggenburgerstrasse 50a\, 9500 Wil
TRANSP:OPAQUE
SEQUENCE:0
UID:66606-veranstaltung@ref-wil.ch
DTSTAMP:20251219T081628Z
DESCRIPTION:Kontakt: Jeanette Pfister\, diakonische Mitarbeiterin\n
 \nWeitere Infos: https://www.ref-wil.ch/veranstaltung/66606
SUMMARY:Ferienprogramm Kindertreff
PRIORITY:5
X-MICROSOFT-CDO-IMPORTANCE:1
CLASS:PUBLIC
END:VEVENT
END:VCALENDAR
