BEGIN:VCALENDAR
PRODID:-//kirchenweb.ch gmbh//veranstaltungsausgabe v2.0//DE
VERSION:2.0
METHOD:PUBLISH
BEGIN:VEVENT
DTSTART:20260517T080100Z
DTEND:20260517T091500Z
LOCATION:Mesmerhuus Wil\, Toggenburgerstrasse 50\, 9500 Wil
TRANSP:OPAQUE
SEQUENCE:0
UID:66576-veranstaltung@ref-wil.ch
DTSTAMP:20250730T085503Z
DESCRIPTION:Der Kindertreff findet jeden Sonntag parallel zum Gottesdienst
  im Mesmerhuus statt. Das Programm ist für Kinder von 4 - 10 Jahren. Die
  Kleinkinder werden und der Chinderhüti betreut. \n\nKontakt: Jeanette
  Pfister\, diakonische Mitarbeiterin\n\nWeitere Infos:
  https://www.ref-wil.ch/veranstaltung/66576
SUMMARY:Kindertreff
PRIORITY:5
X-MICROSOFT-CDO-IMPORTANCE:1
CLASS:PUBLIC
END:VEVENT
END:VCALENDAR
