BEGIN:VCALENDAR
PRODID:-//kirchenweb.ch gmbh//veranstaltungsausgabe v2.0//DE
VERSION:2.0
METHOD:PUBLISH
BEGIN:VEVENT
DTSTART:20260628T080100Z
DTEND:20260628T090100Z
LOCATION:Mesmerhuus Wil\, Toggenburgerstrasse 50\, 9500 Wil
TRANSP:OPAQUE
SEQUENCE:0
UID:66535-veranstaltung@ref-wil.ch
DTSTAMP:20250730T084449Z
DESCRIPTION:Kleinkinder bis 4 Jahre werden während dem Gottesdienst
  betreut.\n\nKontakt: Jeanette Pfister\, diakonische Mitarbeiterin\n
 \nWeitere Infos: https://www.ref-wil.ch/veranstaltung/66535
SUMMARY:Chinderhüeti
PRIORITY:5
X-MICROSOFT-CDO-IMPORTANCE:1
CLASS:PUBLIC
END:VEVENT
END:VCALENDAR
