BEGIN:VCALENDAR
PRODID:-//kirchenweb.ch gmbh//veranstaltungsausgabe v2.0//DE
VERSION:2.0
METHOD:PUBLISH
BEGIN:VEVENT
DTSTART:20260621T150000Z
DTEND:20260621T160000Z
LOCATION:Kreuzkirche Wil\, Toggenburgerstrasse 52a\, 9500 Wil
TRANSP:OPAQUE
SEQUENCE:0
UID:65894-veranstaltung@ref-wil.ch
DTSTAMP:20250430T080353Z
DESCRIPTION:Kontakt: Stephan Giger\, Kirchenmusiker\n\nWeitere Infos:
  https://www.ref-wil.ch/veranstaltung/65894
SUMMARY:Toccatawil Konzert
PRIORITY:5
X-MICROSOFT-CDO-IMPORTANCE:1
CLASS:PUBLIC
END:VEVENT
END:VCALENDAR
