BEGIN:VCALENDAR
PRODID:-//kirchenweb.ch gmbh//veranstaltungsausgabe v2.0//DE
VERSION:2.0
METHOD:PUBLISH
BEGIN:VEVENT
DTSTART:20261119T130000Z
DTEND:20261119T140000Z
LOCATION:Kirchgemeindehaus Wil\, Toggenburgerstrasse 50\, 9500 Wil
TRANSP:OPAQUE
SEQUENCE:0
UID:65844-veranstaltung@ref-wil.ch
DTSTAMP:20250429T092510Z
DESCRIPTION:\n\nKontakt: Stephan Giger\, Kirchenmusiker\n\nWeitere Infos:
  https://www.ref-wil.ch/veranstaltung/65844
SUMMARY:Seniorensingen
PRIORITY:5
X-MICROSOFT-CDO-IMPORTANCE:1
CLASS:PUBLIC
END:VEVENT
END:VCALENDAR
