BEGIN:VCALENDAR
PRODID:-//kirchenweb.ch gmbh//veranstaltungsausgabe v2.0//DE
VERSION:2.0
METHOD:PUBLISH
BEGIN:VEVENT
DTSTART:20260521T120000Z
DTEND:20260521T130000Z
LOCATION:Kirchgemeindehaus Wil\, Toggenburgerstrasse 50\, 9500 Wil
TRANSP:OPAQUE
SEQUENCE:0
UID:65839-veranstaltung@ref-wil.ch
DTSTAMP:20250429T092452Z
DESCRIPTION:\n\nKontakt: Stephan Giger\, Kirchenmusiker\n\nWeitere Infos:
  https://www.ref-wil.ch/veranstaltung/65839
SUMMARY:Seniorensingen
PRIORITY:5
X-MICROSOFT-CDO-IMPORTANCE:1
CLASS:PUBLIC
END:VEVENT
END:VCALENDAR
