BEGIN:VCALENDAR
PRODID:-//kirchenweb.ch gmbh//veranstaltungsausgabe v2.0//DE
VERSION:2.0
METHOD:PUBLISH
BEGIN:VEVENT
DTSTART:20250408T173000Z
DTEND:20250408T190000Z
LOCATION:Kirchgemeindehaus Wil\, Toggenburgerstrasse 50\, 9500 Wil
TRANSP:OPAQUE
SEQUENCE:0
UID:65659-veranstaltung@ref-wil.ch
DTSTAMP:20250320T164633Z
DESCRIPTION:Kontakt: Stephan Giger\, Kirchenmusiker\n\nWeitere Infos:
  https://www.ref-wil.ch/veranstaltung/65659
SUMMARY:Kirchenchorprobe
PRIORITY:5
X-MICROSOFT-CDO-IMPORTANCE:1
CLASS:PUBLIC
END:VEVENT
END:VCALENDAR
