BEGIN:VCALENDAR
PRODID:-//kirchenweb.ch gmbh//veranstaltungsausgabe v2.0//DE
VERSION:2.0
METHOD:PUBLISH
BEGIN:VEVENT
DTSTART;VALUE=DATE:20250319
DTEND;VALUE=DATE:20250320
LOCATION:Mesmerhuus Wil\, Toggenburgerstrasse 50a\, 9500 Wil
TRANSP:OPAQUE
SEQUENCE:0
UID:65631-veranstaltung@ref-wil.ch
DTSTAMP:20250319T065646Z
DESCRIPTION:Kontakt: Bettina Birkner\, Pfarrerin\n\nWeitere Infos:
  https://www.ref-wil.ch/veranstaltung/65631
SUMMARY:Kleingruppe
PRIORITY:5
X-MICROSOFT-CDO-IMPORTANCE:1
CLASS:PUBLIC
END:VEVENT
END:VCALENDAR
