BEGIN:VCALENDAR
PRODID:-//kirchenweb.ch gmbh//veranstaltungsausgabe v2.0//DE
VERSION:2.0
METHOD:PUBLISH
BEGIN:VEVENT
DTSTART:20250224T170000Z
DTEND:20250224T200000Z
LOCATION:Kirchgemeindehaus Wil\, \,
TRANSP:OPAQUE
SEQUENCE:0
UID:65359-veranstaltung@ref-wil.ch
DTSTAMP:20250220T102226Z
DESCRIPTION:Kontakt: markus.lohner@ref-wil.ch\n\nWeitere Infos:
  https://www.ref-wil.ch/veranstaltung/65359
SUMMARY:Sitzung Familienberatungsstelle
PRIORITY:5
X-MICROSOFT-CDO-IMPORTANCE:1
CLASS:PUBLIC
END:VEVENT
END:VCALENDAR
