BEGIN:VCALENDAR
PRODID:-//kirchenweb.ch gmbh//veranstaltungsausgabe v2.0//DE
VERSION:2.0
METHOD:PUBLISH
BEGIN:VEVENT
DTSTART:20250219T083000Z
DTEND:20250219T093000Z
LOCATION:Altersheim Rosenau\, Rosenbergstr. 3\, 9533 Kirchberg
TRANSP:OPAQUE
SEQUENCE:0
UID:65260-veranstaltung@ref-wil.ch
DTSTAMP:20250106T165634Z
DESCRIPTION:Kontakt: Christoph Casty\, Pfarrer\n\nWeitere Infos:
  https://www.ref-wil.ch/veranstaltung/65260
SUMMARY:Gottesdienst Altersheim Rosenau Kirchberg
PRIORITY:5
X-MICROSOFT-CDO-IMPORTANCE:1
CLASS:PUBLIC
END:VEVENT
END:VCALENDAR
