BEGIN:VCALENDAR
PRODID:-//kirchenweb.ch gmbh//veranstaltungsausgabe v2.0//DE
VERSION:2.0
METHOD:PUBLISH
BEGIN:VEVENT
DTSTART:20250321T180000Z
DTEND:20250321T203000Z
LOCATION:Kreiselhuus Wil\, Toggenburgertrasse 56\, 9500 Wil
TRANSP:OPAQUE
SEQUENCE:0
UID:65221-veranstaltung@ref-wil.ch
DTSTAMP:20250103T121345Z
DESCRIPTION:Kontakt: Marcel Urban\, Diakon\n\nWeitere Infos:
  https://www.ref-wil.ch/veranstaltung/65221
SUMMARY:JUK
PRIORITY:5
X-MICROSOFT-CDO-IMPORTANCE:1
CLASS:PUBLIC
END:VEVENT
END:VCALENDAR
