BEGIN:VCALENDAR
PRODID:-//kirchenweb.ch gmbh//veranstaltungsausgabe v2.0//DE
VERSION:2.0
METHOD:PUBLISH
BEGIN:VEVENT
DTSTART:20250316T110000Z
DTEND:20250316T150000Z
LOCATION:Kirchgemeindehaus Wil\, Toggenburgerstrasse 50\, 9500 Wil
TRANSP:OPAQUE
SEQUENCE:0
UID:65170-veranstaltung@ref-wil.ch
DTSTAMP:20241230T071715Z
DESCRIPTION:Kontakt: jeanette.pfister@ref-wil.ch\n\nWeitere Infos:
  https://www.ref-wil.ch/veranstaltung/65170
SUMMARY:Zeit zum Verweilen
PRIORITY:5
X-MICROSOFT-CDO-IMPORTANCE:1
CLASS:PUBLIC
END:VEVENT
END:VCALENDAR
