BEGIN:VCALENDAR
PRODID:-//kirchenweb.ch gmbh//veranstaltungsausgabe v2.0//DE
VERSION:2.0
METHOD:PUBLISH
BEGIN:VEVENT
DTSTART:20250226T130000Z
DTEND:20250226T143000Z
LOCATION:Kirchgemeindehaus Wil\, Toggenburgerstrasse 50\, 9500 Wil
TRANSP:OPAQUE
SEQUENCE:0
UID:65135-veranstaltung@ref-wil.ch
DTSTAMP:20241216T103128Z
DESCRIPTION:Peter Rutz und Christoph Casty informieren über den Ort
  Murten\, das Hotel und die Umgebung. Das Ausflugsprogramm wird noch nicht
  fix sein\, so können an diesem Infoanlass auch Wünsche der Gruppe
  aufgenommen werden.\n\nKontakt: Christoph Casty\, Pfarrer\n\nWeitere
  Infos: https://www.ref-wil.ch/veranstaltung/65135
SUMMARY:Infoanlass Seniorenferien in Murten
PRIORITY:5
X-MICROSOFT-CDO-IMPORTANCE:1
CLASS:PUBLIC
END:VEVENT
END:VCALENDAR
