BEGIN:VCALENDAR
PRODID:-//kirchenweb.ch gmbh//veranstaltungsausgabe v2.0//DE
VERSION:2.0
METHOD:PUBLISH
BEGIN:VEVENT
DTSTART:20250213T090000Z
DTEND:20250213T100000Z
LOCATION:Alters- und Pflegeheim Rosengarten Rossrüti\, \,
TRANSP:OPAQUE
SEQUENCE:0
UID:64121-veranstaltung@ref-wil.ch
DTSTAMP:20250106T170039Z
DESCRIPTION:Adresse: Konstanzerstrasse 10\, 9552 Rossrüti \n\nKontakt:
  Christoph Casty\, Pfarrer\n\nWeitere Infos:
  https://www.ref-wil.ch/veranstaltung/64121
SUMMARY:Andacht Alters- und Pflegeheim Rosengarten Rossrüti
PRIORITY:5
X-MICROSOFT-CDO-IMPORTANCE:1
CLASS:PUBLIC
END:VEVENT
END:VCALENDAR
