BEGIN:VCALENDAR
PRODID:-//kirchenweb.ch gmbh//veranstaltungsausgabe v2.0//DE
VERSION:2.0
METHOD:PUBLISH
BEGIN:VEVENT
DTSTART:20250401T073000Z
DTEND:20250401T083000Z
LOCATION:Wohn- und Pflegeheim Lindenbaum Züberwangen\, \,
TRANSP:OPAQUE
SEQUENCE:0
UID:63872-veranstaltung@ref-wil.ch
DTSTAMP:20241114T134559Z
DESCRIPTION:Adresse: Weieren 52\, 9523 Züberwangen \n\nKontakt:
  irene.sprenger@ref-wil.ch\n\nWeitere Infos:
  https://www.ref-wil.ch/veranstaltung/63872
SUMMARY:Gottesdienst Lindenbaum Züberwangen Zuzwil
PRIORITY:5
X-MICROSOFT-CDO-IMPORTANCE:1
CLASS:PUBLIC
END:VEVENT
END:VCALENDAR
