BEGIN:VCALENDAR
PRODID:-//kirchenweb.ch gmbh//veranstaltungsausgabe v2.0//DE
VERSION:2.0
METHOD:PUBLISH
BEGIN:VEVENT
DTSTART:20250316T100000Z
DTEND:20250316T110000Z
LOCATION:Triangel\, Unterdorfstrasse 7\, 9524 Zuzwil
TRANSP:OPAQUE
SEQUENCE:0
UID:63862-veranstaltung@ref-wil.ch
DTSTAMP:20241114T133252Z
DESCRIPTION:Kontakt: irene.sprenger@ref-wil.ch\n\nWeitere Infos:
  https://www.ref-wil.ch/veranstaltung/63862
SUMMARY:Kirchkreisversammlung Zuzwil Züberwangen Weieren
PRIORITY:5
X-MICROSOFT-CDO-IMPORTANCE:1
CLASS:PUBLIC
END:VEVENT
END:VCALENDAR
