BEGIN:VCALENDAR
PRODID:-//kirchenweb.ch gmbh//veranstaltungsausgabe v2.0//DE
VERSION:2.0
METHOD:PUBLISH
BEGIN:VEVENT
DTSTART:20250302T090000Z
DTEND:20250302T100000Z
LOCATION:Triangel Zuzwil\, Unterdorfstrasse 7\, 9524 Zuzwil
TRANSP:OPAQUE
SEQUENCE:0
UID:63861-veranstaltung@ref-wil.ch
DTSTAMP:20241114T133043Z
DESCRIPTION:Kontakt: Marcel Wildi\, Pfarrer\n\nWeitere Infos:
  https://www.ref-wil.ch/veranstaltung/63861
SUMMARY:Gottesdienst Zuzwil mit Segnungen und Abendmahl
PRIORITY:5
X-MICROSOFT-CDO-IMPORTANCE:1
CLASS:PUBLIC
END:VEVENT
END:VCALENDAR
