BEGIN:VCALENDAR
PRODID:-//kirchenweb.ch gmbh//veranstaltungsausgabe v2.0//DE
VERSION:2.0
METHOD:PUBLISH
BEGIN:VEVENT
DTSTART:20250219T130000Z
DTEND:20250219T140000Z
LOCATION:Triangel Zuzwil\, Unterdorfstrasse 7\, 9524 Zuzwil
TRANSP:OPAQUE
SEQUENCE:0
UID:63854-veranstaltung@ref-wil.ch
DTSTAMP:20241114T132854Z
DESCRIPTION:Jassen und Spielen bei Kaffee und Kuchen\n\nKontakt: Peter
  Rutz\n\nWeitere Infos: https://www.ref-wil.ch/veranstaltung/63854
SUMMARY:Triangeltreff Zuzwil
PRIORITY:5
X-MICROSOFT-CDO-IMPORTANCE:1
CLASS:PUBLIC
END:VEVENT
END:VCALENDAR
