BEGIN:VCALENDAR
PRODID:-//kirchenweb.ch gmbh//veranstaltungsausgabe v2.0//DE
VERSION:2.0
METHOD:PUBLISH
BEGIN:VEVENT
DTSTART:20250323T090000Z
DTEND:20250323T100000Z
LOCATION:Kapelle Psychiatrische Klinik\, Zürchertrasse 30\, 9500 Wil
TRANSP:OPAQUE
SEQUENCE:0
UID:63800-veranstaltung@ref-wil.ch
DTSTAMP:20241114T103212Z
DESCRIPTION:Die Gottesdienste am Sonntag werden abwechslungsweise von
  katholischer und evangelischer Seite gestaltet. Es sind an jedem Sonntag
  Besucher beider Konfessionen eingeladen und willkommen.\n\nKontakt:
  irene.sprenger@ref-wil.ch\n\nWeitere Infos:
  https://www.ref-wil.ch/veranstaltung/63800
SUMMARY:Klinikgottesdienst
PRIORITY:5
X-MICROSOFT-CDO-IMPORTANCE:1
CLASS:PUBLIC
END:VEVENT
END:VCALENDAR
