BEGIN:VCALENDAR
PRODID:-//kirchenweb.ch gmbh//veranstaltungsausgabe v2.0//DE
VERSION:2.0
METHOD:PUBLISH
BEGIN:VEVENT
DTSTART:20250326T083000Z
DTEND:20250326T093000Z
LOCATION:Pfarreiheim Bronschhofen\, Bahnhofstrasse 7\, 9552 Bronschhofen
TRANSP:OPAQUE
SEQUENCE:0
UID:63782-veranstaltung@ref-wil.ch
DTSTAMP:20241114T102247Z
DESCRIPTION:Kontakt: Christoph Casty\, Pfarrer\n\nWeitere Infos:
  https://www.ref-wil.ch/veranstaltung/63782
SUMMARY:Ökum. Morgenandacht Bronschhofen
PRIORITY:5
X-MICROSOFT-CDO-IMPORTANCE:1
CLASS:PUBLIC
END:VEVENT
END:VCALENDAR
