BEGIN:VCALENDAR
PRODID:-//kirchenweb.ch gmbh//veranstaltungsausgabe v2.0//DE
VERSION:2.0
METHOD:PUBLISH
BEGIN:VEVENT
DTSTART:20250330T090000Z
DTEND:20250330T100000Z
LOCATION:Kath. Kirche Rickenbach\, \,
TRANSP:OPAQUE
SEQUENCE:0
UID:63780-veranstaltung@ref-wil.ch
DTSTAMP:20251021T082435Z
DESCRIPTION:Kontakt: Markus Lohner\, Pfarrer\n\nWeitere Infos:
  https://www.ref-wil.ch/veranstaltung/63780
SUMMARY:Ökum. Familiengottesdienst und Suppentag Rickenbach
PRIORITY:5
X-MICROSOFT-CDO-IMPORTANCE:1
CLASS:PUBLIC
END:VEVENT
END:VCALENDAR
