BEGIN:VCALENDAR
PRODID:-//kirchenweb.ch gmbh//veranstaltungsausgabe v2.0//DE
VERSION:2.0
METHOD:PUBLISH
BEGIN:VEVENT
DTSTART:20250329T153000Z
DTEND:20250329T160000Z
LOCATION:Katholisches Pfarreizentrum \, \, 9500 Wil
TRANSP:OPAQUE
SEQUENCE:0
UID:63696-veranstaltung@ref-wil.ch
DTSTAMP:20241028T101809Z
DESCRIPTION:Kontakt: Jeanette Pfister\, diakonische Mitarbeiterin\n
 \nWeitere Infos: https://www.ref-wil.ch/veranstaltung/63696
SUMMARY:Ökum. Kleinkindergottesdienst Wil
PRIORITY:5
X-MICROSOFT-CDO-IMPORTANCE:1
CLASS:PUBLIC
END:VEVENT
END:VCALENDAR
