BEGIN:VCALENDAR
PRODID:-//kirchenweb.ch gmbh//veranstaltungsausgabe v2.0//DE
VERSION:2.0
METHOD:PUBLISH
BEGIN:VEVENT
DTSTART:20250320T130000Z
DTEND:20250320T140000Z
LOCATION:Kirchgemeindehaus Wil\, Toggenburgerstrasse 50\, 9500 Wil
TRANSP:OPAQUE
SEQUENCE:0
UID:63670-veranstaltung@ref-wil.ch
DTSTAMP:20241022T125353Z
DESCRIPTION:\n\nKontakt: Stephan Giger\, Kirchenmusiker\n\nWeitere Infos:
  https://www.ref-wil.ch/veranstaltung/63670
SUMMARY:Seniorensingen
PRIORITY:5
X-MICROSOFT-CDO-IMPORTANCE:1
CLASS:PUBLIC
END:VEVENT
END:VCALENDAR
