BEGIN:VCALENDAR
PRODID:-//kirchenweb.ch gmbh//veranstaltungsausgabe v2.0//DE
VERSION:2.0
METHOD:PUBLISH
BEGIN:VEVENT
DTSTART:20250312T083000Z
DTEND:20250312T093000Z
LOCATION:Alterszentrum Sonnenhof\, Haldenstrasse 18\, 9500 wil
TRANSP:OPAQUE
SEQUENCE:0
UID:63551-veranstaltung@ref-wil.ch
DTSTAMP:20250207T070703Z
DESCRIPTION:Kontakt: Walter Hürzeler\n\nWeitere Infos:
  https://www.ref-wil.ch/veranstaltung/63551
SUMMARY:Gottesdienst Alterszentrum Sonnenhof
PRIORITY:5
X-MICROSOFT-CDO-IMPORTANCE:1
CLASS:PUBLIC
END:VEVENT
END:VCALENDAR
