BEGIN:VCALENDAR
PRODID:-//kirchenweb.ch gmbh//veranstaltungsausgabe v2.0//DE
VERSION:2.0
METHOD:PUBLISH
BEGIN:VEVENT
DTSTART:20250214T091500Z
DTEND:20250214T101500Z
LOCATION:Pflegezentrum Fürstenau\, Fürstenlandstrasse 50\, 9500 Wil
TRANSP:OPAQUE
SEQUENCE:0
UID:63538-veranstaltung@ref-wil.ch
DTSTAMP:20241018T144335Z
DESCRIPTION:Kontakt: Christoph Casty\, Pfarrer\n\nWeitere Infos:
  https://www.ref-wil.ch/veranstaltung/63538
SUMMARY:Gottesdienst Pflegezentrum Fürstenau
PRIORITY:5
X-MICROSOFT-CDO-IMPORTANCE:1
CLASS:PUBLIC
END:VEVENT
END:VCALENDAR
